BEGIN:VCALENDAR
VERSION:2.0
PRODID:-//New Zealand Occupational Hygiene Society - ECPv6.15.20//NONSGML v1.0//EN
CALSCALE:GREGORIAN
METHOD:PUBLISH
X-WR-CALNAME:New Zealand Occupational Hygiene Society
X-ORIGINAL-URL:https://nzohs.org.nz
X-WR-CALDESC:Events for New Zealand Occupational Hygiene Society
REFRESH-INTERVAL;VALUE=DURATION:PT1H
X-Robots-Tag:noindex
X-PUBLISHED-TTL:PT1H
BEGIN:VTIMEZONE
TZID:Pacific/Auckland
BEGIN:STANDARD
TZOFFSETFROM:+1300
TZOFFSETTO:+1200
TZNAME:NZST
DTSTART:20240406T140000
END:STANDARD
BEGIN:DAYLIGHT
TZOFFSETFROM:+1200
TZOFFSETTO:+1300
TZNAME:NZDT
DTSTART:20240928T140000
END:DAYLIGHT
BEGIN:STANDARD
TZOFFSETFROM:+1300
TZOFFSETTO:+1200
TZNAME:NZST
DTSTART:20250405T140000
END:STANDARD
BEGIN:DAYLIGHT
TZOFFSETFROM:+1200
TZOFFSETTO:+1300
TZNAME:NZDT
DTSTART:20250927T140000
END:DAYLIGHT
BEGIN:STANDARD
TZOFFSETFROM:+1300
TZOFFSETTO:+1200
TZNAME:NZST
DTSTART:20260404T140000
END:STANDARD
BEGIN:DAYLIGHT
TZOFFSETFROM:+1200
TZOFFSETTO:+1300
TZNAME:NZDT
DTSTART:20260926T140000
END:DAYLIGHT
END:VTIMEZONE
BEGIN:VEVENT
DTSTART;TZID=Pacific/Auckland:20250616T080000
DTEND;TZID=Pacific/Auckland:20250619T170000
DTSTAMP:20260420T090058
CREATED:20250101T040621Z
LAST-MODIFIED:20250101T040621Z
UID:6362-1750060800-1750352400@nzohs.org.nz
SUMMARY:OH2025:  The Workplace Health Protection Conference
DESCRIPTION:Hilton Newcastle Gateshead\nBottle Bank\nGateshead
URL:https://nzohs.org.nz/event/oh2025-the-workplace-health-protection-conference/
END:VEVENT
END:VCALENDAR