BEGIN:VCALENDAR
VERSION:2.0
PRODID:-//New Zealand Occupational Hygiene Society - ECPv6.15.20//NONSGML v1.0//EN
CALSCALE:GREGORIAN
METHOD:PUBLISH
X-ORIGINAL-URL:https://nzohs.org.nz
X-WR-CALDESC:Events for New Zealand Occupational Hygiene Society
REFRESH-INTERVAL;VALUE=DURATION:PT1H
X-Robots-Tag:noindex
X-PUBLISHED-TTL:PT1H
BEGIN:VTIMEZONE
TZID:Pacific/Auckland
BEGIN:STANDARD
TZOFFSETFROM:+1300
TZOFFSETTO:+1200
TZNAME:NZST
DTSTART:20230401T140000
END:STANDARD
BEGIN:DAYLIGHT
TZOFFSETFROM:+1200
TZOFFSETTO:+1300
TZNAME:NZDT
DTSTART:20230923T140000
END:DAYLIGHT
BEGIN:STANDARD
TZOFFSETFROM:+1300
TZOFFSETTO:+1200
TZNAME:NZST
DTSTART:20240406T140000
END:STANDARD
BEGIN:DAYLIGHT
TZOFFSETFROM:+1200
TZOFFSETTO:+1300
TZNAME:NZDT
DTSTART:20240928T140000
END:DAYLIGHT
BEGIN:STANDARD
TZOFFSETFROM:+1300
TZOFFSETTO:+1200
TZNAME:NZST
DTSTART:20250405T140000
END:STANDARD
BEGIN:DAYLIGHT
TZOFFSETFROM:+1200
TZOFFSETTO:+1300
TZNAME:NZDT
DTSTART:20250927T140000
END:DAYLIGHT
END:VTIMEZONE
BEGIN:VEVENT
DTSTART;TZID=Pacific/Auckland:20240605T083000
DTEND;TZID=Pacific/Auckland:20240605T163000
DTSTAMP:20260420T012026
CREATED:20240405T060047Z
LAST-MODIFIED:20240405T060116Z
UID:5861-1717576200-1717605000@nzohs.org.nz
SUMMARY:VOC Exposure course (Levi Mines)
DESCRIPTION:Auckland 08:30 – 16:30
URL:https://nzohs.org.nz/event/voc-exposure-course-levi-mines/
END:VEVENT
BEGIN:VEVENT
DTSTART;TZID=Pacific/Auckland:20240617T080000
DTEND;TZID=Pacific/Auckland:20240621T170000
DTSTAMP:20260420T012026
CREATED:20231112T022933Z
LAST-MODIFIED:20231112T022933Z
UID:5654-1718611200-1718989200@nzohs.org.nz
SUMMARY:W501 Measurement of Hazardous Substances OHTA Training Course - Christchurch
DESCRIPTION:17 – 21 June 2024 \nVenue to be confirmed
URL:https://nzohs.org.nz/event/w501-measurement-of-hazardous-substances-ohta-training-course-christchurch/
END:VEVENT
BEGIN:VEVENT
DTSTART;TZID=Pacific/Auckland:20240624T080000
DTEND;TZID=Pacific/Auckland:20240627T170000
DTSTAMP:20260420T012026
CREATED:20231112T023357Z
LAST-MODIFIED:20231112T023357Z
UID:5659-1719216000-1719507600@nzohs.org.nz
SUMMARY:W201 Basic Principles of Occupational Hygiene - Auckland
DESCRIPTION:24 – 27 June (4 day course) \nVenue to be confirmed.
URL:https://nzohs.org.nz/event/w201-basic-principles-of-occupational-hygiene-auckland/
END:VEVENT
END:VCALENDAR