BEGIN:VCALENDAR
VERSION:2.0
PRODID:-//New Zealand Occupational Hygiene Society - ECPv6.15.20//NONSGML v1.0//EN
CALSCALE:GREGORIAN
METHOD:PUBLISH
X-WR-CALNAME:New Zealand Occupational Hygiene Society
X-ORIGINAL-URL:https://nzohs.org.nz
X-WR-CALDESC:Events for New Zealand Occupational Hygiene Society
REFRESH-INTERVAL;VALUE=DURATION:PT1H
X-Robots-Tag:noindex
X-PUBLISHED-TTL:PT1H
BEGIN:VTIMEZONE
TZID:Pacific/Auckland
BEGIN:STANDARD
TZOFFSETFROM:+1300
TZOFFSETTO:+1200
TZNAME:NZST
DTSTART:20240406T140000
END:STANDARD
BEGIN:DAYLIGHT
TZOFFSETFROM:+1200
TZOFFSETTO:+1300
TZNAME:NZDT
DTSTART:20240928T140000
END:DAYLIGHT
BEGIN:STANDARD
TZOFFSETFROM:+1300
TZOFFSETTO:+1200
TZNAME:NZST
DTSTART:20250405T140000
END:STANDARD
BEGIN:DAYLIGHT
TZOFFSETFROM:+1200
TZOFFSETTO:+1300
TZNAME:NZDT
DTSTART:20250927T140000
END:DAYLIGHT
BEGIN:STANDARD
TZOFFSETFROM:+1300
TZOFFSETTO:+1200
TZNAME:NZST
DTSTART:20260404T140000
END:STANDARD
BEGIN:DAYLIGHT
TZOFFSETFROM:+1200
TZOFFSETTO:+1300
TZNAME:NZDT
DTSTART:20260926T140000
END:DAYLIGHT
END:VTIMEZONE
BEGIN:VEVENT
DTSTART;TZID=Pacific/Auckland:20250505T083000
DTEND;TZID=Pacific/Auckland:20250509T163000
DTSTAMP:20260420T020404
CREATED:20241116T034342Z
LAST-MODIFIED:20241116T034342Z
UID:6223-1746433800-1746808200@nzohs.org.nz
SUMMARY:505 Control of Hazardous Substances OHTA Course
DESCRIPTION:Christchurch (venue to be advised)
URL:https://nzohs.org.nz/event/505-control-of-hazardous-substances-ohta-course/
END:VEVENT
BEGIN:VEVENT
DTSTART;TZID=Pacific/Auckland:20250515T173000
DTEND;TZID=Pacific/Auckland:20250515T190000
DTSTAMP:20260420T020404
CREATED:20250101T033314Z
LAST-MODIFIED:20250101T033314Z
UID:6354-1747330200-1747335600@nzohs.org.nz
SUMMARY:NZOHS Council Meeting
DESCRIPTION:Online via Teams
URL:https://nzohs.org.nz/event/nzohs-council-meeting-24/
END:VEVENT
BEGIN:VEVENT
DTSTART;TZID=Pacific/Auckland:20250519T080000
DTEND;TZID=Pacific/Auckland:20250521T170000
DTSTAMP:20260420T020404
CREATED:20250101T040119Z
LAST-MODIFIED:20250101T040119Z
UID:6356-1747641600-1747846800@nzohs.org.nz
SUMMARY:AIHA Connect 2025
DESCRIPTION:Kansas City\, MO
URL:https://nzohs.org.nz/event/aiha-connect-2025/
END:VEVENT
BEGIN:VEVENT
DTSTART;TZID=Pacific/Auckland:20250526T080000
DTEND;TZID=Pacific/Auckland:20250528T170000
DTSTAMP:20260420T020404
CREATED:20241116T033932Z
LAST-MODIFIED:20241116T033950Z
UID:6212-1748246400-1748451600@nzohs.org.nz
SUMMARY:NZOHS Conference 2025
DESCRIPTION:NZOHS Work Related Health Conference 2025! \nHilton Auckland\,  26-28 May 2025
URL:https://nzohs.org.nz/event/nzohs-conference-2025/
END:VEVENT
BEGIN:VEVENT
DTSTART;TZID=Pacific/Auckland:20250527T165000
DTEND;TZID=Pacific/Auckland:20250527T175000
DTSTAMP:20260420T020404
CREATED:20250513T015539Z
LAST-MODIFIED:20250513T223030Z
UID:6906-1748364600-1748368200@nzohs.org.nz
SUMMARY:NZOHS AGM 2025
DESCRIPTION:
URL:https://nzohs.org.nz/event/agm-2025/
LOCATION:Hilton Auckland\, Aquamarine 2/3 Room
END:VEVENT
END:VCALENDAR